BEGIN:VCALENDAR
VERSION:2.0
PRODID:-//Netzwerk Bibel Niedersachsen - ECPv6.15.20//NONSGML v1.0//EN
CALSCALE:GREGORIAN
METHOD:PUBLISH
X-WR-CALNAME:Netzwerk Bibel Niedersachsen
X-ORIGINAL-URL:https://netzwerk-bibel.de
X-WR-CALDESC:Veranstaltungen für Netzwerk Bibel Niedersachsen
REFRESH-INTERVAL;VALUE=DURATION:PT1H
X-Robots-Tag:noindex
X-PUBLISHED-TTL:PT1H
BEGIN:VTIMEZONE
TZID:Europe/Berlin
BEGIN:DAYLIGHT
TZOFFSETFROM:+0100
TZOFFSETTO:+0200
TZNAME:CEST
DTSTART:20180325T010000
END:DAYLIGHT
BEGIN:STANDARD
TZOFFSETFROM:+0200
TZOFFSETTO:+0100
TZNAME:CET
DTSTART:20181028T010000
END:STANDARD
BEGIN:DAYLIGHT
TZOFFSETFROM:+0100
TZOFFSETTO:+0200
TZNAME:CEST
DTSTART:20190331T010000
END:DAYLIGHT
BEGIN:STANDARD
TZOFFSETFROM:+0200
TZOFFSETTO:+0100
TZNAME:CET
DTSTART:20191027T010000
END:STANDARD
BEGIN:DAYLIGHT
TZOFFSETFROM:+0100
TZOFFSETTO:+0200
TZNAME:CEST
DTSTART:20200329T010000
END:DAYLIGHT
BEGIN:STANDARD
TZOFFSETFROM:+0200
TZOFFSETTO:+0100
TZNAME:CET
DTSTART:20201025T010000
END:STANDARD
END:VTIMEZONE
BEGIN:VEVENT
DTSTART;VALUE=DATE:20190310
DTEND;VALUE=DATE:20190422
DTSTAMP:20260421T130814
CREATED:20190311T130708Z
LAST-MODIFIED:20190311T131446Z
UID:54766-1552176000-1555891199@netzwerk-bibel.de
SUMMARY:Ausstellung:  Passagen – Übergänge des Lebens
DESCRIPTION:Passagen – Übergänge des Lebens – so lautet der Titel der Ausstellung der Kulturkirche Markuskirche 2019. Gezeigt werden der rekonstruierte historische Hochaltar der Markuskirche von 1906 mit dem Altargemälde „Auferstehung“ von Oscar Wichtendahl und zwei Videoarbeiten des international bekannten Videokünstlers Bill Viola. Auch Viola zeigt eine Auferstehungsszene („Study for Emergence“\, 2002)\, ferner beschäftigt sich sein frühes Schlüsselwerk „The Passing“ (1991) mit Übergängen des Lebens zwischen Geburt und Tod. Diese Konfrontation lädt dazu ein\, eine Diskussion über die Nähe und Ferne von Kunst und Glauben\, Kunst und Religion über eine Zeitspanne von einhundert Jahren zu führen. \nÖffnungszeiten:\nMittwoch bis Samstag\, 13.00 bis 19.00 Uhr \nEintritt frei\nAn der Markuskirche\, Hannover \n  \nTel. 0511 665467\ninfo@markuskirche-hannover.de\nwww.markuskirche-hannover.de \nBeitrag des NDR vom 10.3.2019
URL:https://netzwerk-bibel.de/event/ausstellung-passagen-uebergaenge-des-lebens/
LOCATION:Markuskirche Hannover\, An der Markuskirche\, Hannover\, Niedersachsen\, 30161\, Deutschland
CATEGORIES:Ausstellungen,Gottesdienst,Musik,Workshops
END:VEVENT
END:VCALENDAR